BEGIN:VCALENDAR
VERSION:2.0
PRODID:-//wp-events-plugin.com//7.2.3.1//EN
TZID:Europe/London
X-WR-TIMEZONE:Europe/London
BEGIN:VEVENT
UID:195@braillists.org
DTSTART;TZID=Europe/London:20201201T193000
DTEND;TZID=Europe/London:20201201T203000
DTSTAMP:20230508T141335Z
URL:https://www.braillists.org/testevents/an-introduction-to-braille-label
 ling/
SUMMARY:An Introduction to Braille Labelling
DESCRIPTION:In our next braille master class we will be taking a look at br
 aille labelling. This session will be led by Matthew Horspool.\nThis event
  will introduce you to the various types of braille labels available and h
 ow to create your own labels using a range of materials.\nThe session will
  cover using a slate and stylus\, a Perkins brailler and a braille labelle
 r to produce labels\, as well as tips for labelling various products aroun
 d the home.\nWe will also take a look at writing greetings cards in braill
 e.
CATEGORIES:Masterclasses
LOCATION:https://us02web.zoom.us/j/82151839448
END:VEVENT
BEGIN:VTIMEZONE
TZID:Europe/London
X-LIC-LOCATION:Europe/London
BEGIN:STANDARD
DTSTART:20201025T010000
TZOFFSETFROM:+0100
TZOFFSETTO:+0000
TZNAME:GMT
END:STANDARD
END:VTIMEZONE
END:VCALENDAR