BEGIN:VCALENDAR
VERSION:2.0
PRODID:-//wp-events-plugin.com//7.2.3.1//EN
TZID:Europe/London
X-WR-TIMEZONE:Europe/London
BEGIN:VEVENT
UID:194@braillists.org
DTSTART;TZID=Europe/London:20201124T193000
DTEND;TZID=Europe/London:20201124T203000
DTSTAMP:20230507T203036Z
URL:https://www.braillists.org/testevents/an-introduction-to-braille-music
 /
SUMMARY:An Introduction to Braille Music
DESCRIPTION:This session will be a practical introduction to braille music.
  If you have a method of writing braille\, such as a hand frame or Perkins
 \, it would be good to have access to this during the session.\nWe will co
 ver basic music notation and where to access braille music. This session w
 ill be led by James Bowden\, braille technical officer at RNIB.
CATEGORIES:Masterclasses
LOCATION:https://us02web.zoom.us/j/84559748036
END:VEVENT
BEGIN:VTIMEZONE
TZID:Europe/London
X-LIC-LOCATION:Europe/London
BEGIN:STANDARD
DTSTART:20201025T010000
TZOFFSETFROM:+0100
TZOFFSETTO:+0000
TZNAME:GMT
END:STANDARD
END:VTIMEZONE
END:VCALENDAR