BEGIN:VCALENDAR
VERSION:2.0
PRODID:-//wp-events-plugin.com//7.2.3.1//EN
TZID:Europe/London
X-WR-TIMEZONE:Europe/London
BEGIN:VEVENT
UID:196@braillists.org
DTSTART;TZID=Europe/London:20201208T193000
DTEND;TZID=Europe/London:20201208T203000
DTSTAMP:20230507T204824Z
URL:https://www.braillists.org/testevents/an-introduction-to-the-abacus/
SUMMARY:An Introduction to the Abacus
DESCRIPTION:What is an abacus and why would you use one? In this session\, 
 led by James Bowden\, you will learn about the various features of the aba
 cus and why it is ideal for use as a blind person.\nThe session will cover
 :\n\nphysical description and orientation\nThe beads and their meaning\nSe
 tting numbers\nBasic addition\nOverflows and carries\n\nIf you have an aba
 cus\, bring it with you so that you can follow along. If you don't have on
 e\, you can request one through the free equipment offer from the Braillis
 ts. As with all of our new master classes\, supplementary materials to ass
 ist you with learning will be made available afterwards. The session will 
 provide plenty of time for you to ask all of your questions.
CATEGORIES:Masterclasses
LOCATION:https://us02web.zoom.us/j/82771059229
END:VEVENT
BEGIN:VTIMEZONE
TZID:Europe/London
X-LIC-LOCATION:Europe/London
BEGIN:STANDARD
DTSTART:20201025T010000
TZOFFSETFROM:+0100
TZOFFSETTO:+0000
TZNAME:GMT
END:STANDARD
END:VTIMEZONE
END:VCALENDAR