BEGIN:VCALENDAR
VERSION:2.0
PRODID:-//wp-events-plugin.com//7.2.3.1//EN
TZID:Europe/London
X-WR-TIMEZONE:Europe/London
BEGIN:VEVENT
UID:212@braillists.org
DTSTART;TZID=Europe/London:20210119T193000
DTEND;TZID=Europe/London:20210119T203000
DTSTAMP:20230508T103018Z
URL:https://www.braillists.org/testevents/an-introduction-to-unified-engli
 sh-braille/
SUMMARY:An Introduction to Unified English Braille
DESCRIPTION:Each week experts in their field introduce a range of ideas to 
 make effective use of Braille and Braille technology in education and the 
 workplace. \nComing up next: How does UEB differ from Standard English Bra
 ille? Where can you learn about the changes? What tips and tricks are ther
 e for switching to UEB?
CATEGORIES:Masterclasses
LOCATION:https://us02web.zoom.us/meeting/register/tZwoceivqz8rGtbEERfYGlXFS
 R2eIqx-oc9o
END:VEVENT
BEGIN:VTIMEZONE
TZID:Europe/London
X-LIC-LOCATION:Europe/London
BEGIN:STANDARD
DTSTART:20201025T010000
TZOFFSETFROM:+0100
TZOFFSETTO:+0000
TZNAME:GMT
END:STANDARD
END:VTIMEZONE
END:VCALENDAR