BEGIN:VCALENDAR
VERSION:2.0
PRODID:-//wp-events-plugin.com//7.2.3.1//EN
TZID:Europe/London
X-WR-TIMEZONE:Europe/London
BEGIN:VEVENT
UID:149@braillists.org
DTSTART;TZID=Europe/London:20201026T190000
DTEND;TZID=Europe/London:20201026T200000
DTSTAMP:20230506T155633Z
URL:https://www.braillists.org/testevents/braille-for-beginners-2-2020-10-
 26/
SUMMARY:Braille For Beginners
DESCRIPTION:We start on page 9 of Fingerprint volume 8 this week\, learning
  how to braille units of measure such as metres\, kilograms and litres.
CATEGORIES:Braille For Beginners
LOCATION:https://us02web.zoom.us/j/87661382326
END:VEVENT
BEGIN:VTIMEZONE
TZID:Europe/London
X-LIC-LOCATION:Europe/London
BEGIN:STANDARD
DTSTART:20201025T010000
TZOFFSETFROM:+0100
TZOFFSETTO:+0000
TZNAME:GMT
END:STANDARD
END:VTIMEZONE
END:VCALENDAR