BEGIN:VCALENDAR
VERSION:2.0
PRODID:-//wp-events-plugin.com//7.2.3.1//EN
TZID:Europe/London
X-WR-TIMEZONE:Europe/London
BEGIN:VEVENT
UID:151@braillists.org
DTSTART;TZID=Europe/London:20201109T190000
DTEND;TZID=Europe/London:20201109T200000
DTSTAMP:20230506T155922Z
URL:https://www.braillists.org/testevents/braille-for-beginners-2-2020-11-
 09/
SUMMARY:Braille For Beginners
DESCRIPTION:We begin on page 27 of Fingerprint volume 8 this week. Content 
 includes roman numerals\, the long dash\, ampersand\, asterisk\, dagger\, 
 bullet\, copyright and trademark symbols.
CATEGORIES:Braille For Beginners
LOCATION:https://us02web.zoom.us/j/87661382326
END:VEVENT
BEGIN:VTIMEZONE
TZID:Europe/London
X-LIC-LOCATION:Europe/London
BEGIN:STANDARD
DTSTART:20201025T010000
TZOFFSETFROM:+0100
TZOFFSETTO:+0000
TZNAME:GMT
END:STANDARD
END:VTIMEZONE
END:VCALENDAR