BEGIN:VCALENDAR
VERSION:2.0
PRODID:-//wp-events-plugin.com//7.2.3.1//EN
TZID:Europe/London
X-WR-TIMEZONE:Europe/London
BEGIN:VEVENT
UID:153@braillists.org
DTSTART;TZID=Europe/London:20201123T190000
DTEND;TZID=Europe/London:20201123T200000
DTSTAMP:20230506T160150Z
URL:https://www.braillists.org/testevents/braille-for-beginners-2-2020-11-
 23/
SUMMARY:Braille For Beginners
DESCRIPTION:We've reached the end of Fingerprint! Congratulations to everyo
 ne who's been following along. We'll have one last session in the current 
 series of Braille For Beginners this week in which Jenny and the team will
  answer any final braille questions. After that\, we'll finish with a shor
 t braille quiz.
CATEGORIES:Braille For Beginners
LOCATION:https://us02web.zoom.us/j/87661382326
END:VEVENT
BEGIN:VTIMEZONE
TZID:Europe/London
X-LIC-LOCATION:Europe/London
BEGIN:STANDARD
DTSTART:20201025T010000
TZOFFSETFROM:+0100
TZOFFSETTO:+0000
TZNAME:GMT
END:STANDARD
END:VTIMEZONE
END:VCALENDAR