BEGIN:VCALENDAR
VERSION:2.0
PRODID:-//wp-events-plugin.com//7.2.3.1//EN
TZID:Europe/London
X-WR-TIMEZONE:Europe/London
BEGIN:VEVENT
UID:113@braillists.org
DTSTART;TZID=Europe/London:20200831T190000
DTEND;TZID=Europe/London:20200831T200000
DTSTAMP:20230505T214328Z
URL:https://www.braillists.org/testevents/braille-for-beginners-2020-08-31
 /
SUMMARY:Braille For Beginners
DESCRIPTION:We're carrying on with dot 5 contractions starting with charact
 er\, through and where. We'll also review some of the contractions we lear
 nt last time and answer any other braille questions people might have. If 
 you're following along with Fingerprint\, please have volume 6 to hand.
CATEGORIES:Braille For Beginners
LOCATION:https://zoom.us/j/227981901
END:VEVENT
BEGIN:VTIMEZONE
TZID:Europe/London
X-LIC-LOCATION:Europe/London
BEGIN:DAYLIGHT
DTSTART:20200329T020000
TZOFFSETFROM:+0000
TZOFFSETTO:+0100
TZNAME:BST
END:DAYLIGHT
END:VTIMEZONE
END:VCALENDAR