BEGIN:VCALENDAR
VERSION:2.0
PRODID:-//wp-events-plugin.com//7.2.3.1//EN
TZID:Europe/London
X-WR-TIMEZONE:Europe/London
BEGIN:VEVENT
UID:211@braillists.org
DTSTART;TZID=Europe/London:20210112T193000
DTEND;TZID=Europe/London:20210112T203000
DTSTAMP:20231231T194611Z
URL:https://www.braillists.org/testevents/braille-in-the-real-world/
SUMMARY:Braille in the Real World
DESCRIPTION:Join the Braillists Foundation for the first in a brand new ser
 ies of master classes\, looking at how braille can enhance all areas of ou
 r lives.\nWe will kick off the series with a discussion about braille usag
 e in education\, work and for leisure. Where are you using braille? Where 
 do you wish you could use more braille? How can the Braillists support you
  to reach your goals?\nBring all of your thoughts to this discussion. The 
 conversation may also shape the future of Braillists master classes\, so i
 f there's a topic you would love us to cover make sure you come along and 
 tell us.\nThis series of master classes requires registration\, however as
  with all of our events\, it is free to attend. If you register for one ma
 ster class\, you will be registered for the entire series\, so you only ne
 ed to fill the form out once and you will receive a reminder each week abo
 ut the upcoming session.
CATEGORIES:Masterclasses
LOCATION:https://us02web.zoom.us/meeting/register/tZwoceivqz8rGtbEERfYGlXFS
 R2eIqx-oc9o
END:VEVENT
BEGIN:VTIMEZONE
TZID:Europe/London
X-LIC-LOCATION:Europe/London
BEGIN:STANDARD
DTSTART:20201025T010000
TZOFFSETFROM:+0100
TZOFFSETTO:+0000
TZNAME:GMT
END:STANDARD
END:VTIMEZONE
END:VCALENDAR