BEGIN:VCALENDAR
VERSION:2.0
PRODID:-//wp-events-plugin.com//7.2.3.1//EN
TZID:Europe/London
X-WR-TIMEZONE:Europe/London
BEGIN:VEVENT
UID:210@braillists.org
DTSTART;TZID=Europe/London:20210104T190000
DTEND;TZID=Europe/London:20210104T200000
DTSTAMP:20230508T100443Z
URL:https://www.braillists.org/testevents/celebrate-world-braille-day-with
 -the-braillists-foundation/
SUMMARY:Celebrate World Braille Day with the Braillists Foundation
DESCRIPTION:On January the 4th 2021 people across the world will celebrate 
 World Braille Day. This day\, which marks the birth date of Louis Braille 
 is an important day for blind people and those connected to the blind comm
 unity. We could not let this day pass without recognising it and the signi
 ficance of braille.\nWe will be hosting a panel discussion\, inviting pane
 llists who use braille to speak to us about their lives with braille. More
  importantly perhaps\, they will be sharing their thoughts on how braille 
 may adapt to the changing needs of the blind community in future. We will 
 also be sharing perspectives on Braille Usage from around the world\, hear
 ing voices from the UK all the way to New Zealand.\nThis event is free to 
 attend and we hope to see many of you there.
CATEGORIES:Special Events
LOCATION:https://us02web.zoom.us/meeting/register/tZYlceihrD8uGdwxFXg75iQhh
 dTwaphqjlzc
END:VEVENT
BEGIN:VTIMEZONE
TZID:Europe/London
X-LIC-LOCATION:Europe/London
BEGIN:STANDARD
DTSTART:20201025T010000
TZOFFSETFROM:+0100
TZOFFSETTO:+0000
TZNAME:GMT
END:STANDARD
END:VTIMEZONE
END:VCALENDAR