BEGIN:VCALENDAR
VERSION:2.0
PRODID:-//wp-events-plugin.com//7.2.3.1//EN
TZID:Europe/London
X-WR-TIMEZONE:Europe/London
BEGIN:VEVENT
UID:115@braillists.org
DTSTART;TZID=Europe/London:20200415T180000
DTEND;TZID=Europe/London:20200415T190000
DTSTAMP:20210213T171518Z
URL:https://www.braillists.org/testevents/clever-cooking-2020-04-15/
SUMMARY:Clever Cooking
DESCRIPTION:We'll be talking about accessible equipment\, utensils and tech
 niques. We'll chat store cupboard essentials\, and Emma will walk us throu
 gh a recipe for Spaghetti Bolognese to try over the coming week.
CATEGORIES:Clever Cooking
LOCATION:https://zoom.us/j/227981901
END:VEVENT
BEGIN:VTIMEZONE
TZID:Europe/London
X-LIC-LOCATION:Europe/London
BEGIN:DAYLIGHT
DTSTART:20200329T020000
TZOFFSETFROM:+0000
TZOFFSETTO:+0100
TZNAME:BST
END:DAYLIGHT
END:VTIMEZONE
END:VCALENDAR