BEGIN:VCALENDAR
VERSION:2.0
PRODID:-//wp-events-plugin.com//7.2.3.1//EN
TZID:Europe/London
X-WR-TIMEZONE:Europe/London
BEGIN:VEVENT
UID:117@braillists.org
DTSTART;TZID=Europe/London:20200429T180000
DTEND;TZID=Europe/London:20200429T190000
DTSTAMP:20210410T165240Z
URL:https://www.braillists.org/testevents/clever-cooking-2020-04-29/
SUMMARY:Clever Cooking
DESCRIPTION:Emma’s got her hands on an Instant Pot\, and has test driven 
 it on a few recipes\, so she’ll be telling us all how she got on! We’l
 l also be discussing the Bolognese recipe we’ve been trying over the las
 t week.
CATEGORIES:Clever Cooking
LOCATION:https://zoom.us/j/227981901
END:VEVENT
BEGIN:VTIMEZONE
TZID:Europe/London
X-LIC-LOCATION:Europe/London
BEGIN:DAYLIGHT
DTSTART:20200329T020000
TZOFFSETFROM:+0000
TZOFFSETTO:+0100
TZNAME:BST
END:DAYLIGHT
END:VTIMEZONE
END:VCALENDAR