BEGIN:VCALENDAR
VERSION:2.0
PRODID:-//wp-events-plugin.com//7.2.3.1//EN
TZID:Europe/London
X-WR-TIMEZONE:Europe/London
BEGIN:VEVENT
UID:118@braillists.org
DTSTART;TZID=Europe/London:20200506T180000
DTEND;TZID=Europe/London:20200506T190000
DTSTAMP:20210411T202323Z
URL:https://www.braillists.org/testevents/clever-cooking-2020-05-06/
SUMMARY:Clever Cooking
DESCRIPTION:This week we'll be focussing on labelling in the kitchen. It wo
 uld be a disaster to tip a tin of custard to your curry in place of tomato
 es\, so Emma will share some labelling ideas\, from Braille to rubber band
 s. Whether you're wondering how to tell jars of spices apart\, or want to 
 make sure you have your batched frozen meals marked with the correct date 
 and description\, we're hoping this Clever Cooking session will boost your
  confidence in the kitchen.
CATEGORIES:Clever Cooking
LOCATION:https://zoom.us/j/227981901
END:VEVENT
BEGIN:VTIMEZONE
TZID:Europe/London
X-LIC-LOCATION:Europe/London
BEGIN:DAYLIGHT
DTSTART:20200329T020000
TZOFFSETFROM:+0000
TZOFFSETTO:+0100
TZNAME:BST
END:DAYLIGHT
END:VTIMEZONE
END:VCALENDAR