BEGIN:VCALENDAR
VERSION:2.0
PRODID:-//wp-events-plugin.com//7.2.3.1//EN
TZID:Europe/London
X-WR-TIMEZONE:Europe/London
BEGIN:VEVENT
UID:119@braillists.org
DTSTART;TZID=Europe/London:20200513T180000
DTEND;TZID=Europe/London:20200513T190000
DTSTAMP:20210411T212305Z
URL:https://www.braillists.org/testevents/clever-cooking-2020-05-13/
SUMMARY:Clever Cooking
DESCRIPTION:This week Liam will be demonstrating bread making.
CATEGORIES:Clever Cooking
LOCATION:https://zoom.us/j/227981901
END:VEVENT
BEGIN:VTIMEZONE
TZID:Europe/London
X-LIC-LOCATION:Europe/London
BEGIN:DAYLIGHT
DTSTART:20200329T020000
TZOFFSETFROM:+0000
TZOFFSETTO:+0100
TZNAME:BST
END:DAYLIGHT
END:VTIMEZONE
END:VCALENDAR