BEGIN:VCALENDAR
VERSION:2.0
PRODID:-//wp-events-plugin.com//7.2.3.1//EN
TZID:Europe/London
X-WR-TIMEZONE:Europe/London
BEGIN:VEVENT
UID:120@braillists.org
DTSTART;TZID=Europe/London:20200520T180000
DTEND;TZID=Europe/London:20200520T190000
DTSTAMP:20210411T212954Z
URL:https://www.braillists.org/testevents/clever-cooking-2020-05-20/
SUMMARY:Clever Cooking
DESCRIPTION:Join Emma and Liam to discuss accessible recipes and techniques
  in the kitchen. This Wednesday\, we'll be finding out how people got on w
 ith the bread recipe we shared last week.\nEmma will also be talking about
  her experiences with the instant pot pressure cooker\, and there'll be a 
 chance to share what you've been cooking over the last week with the group
 !
CATEGORIES:Clever Cooking
LOCATION:https://zoom.us/j/227981901
END:VEVENT
BEGIN:VTIMEZONE
TZID:Europe/London
X-LIC-LOCATION:Europe/London
BEGIN:DAYLIGHT
DTSTART:20200329T020000
TZOFFSETFROM:+0000
TZOFFSETTO:+0100
TZNAME:BST
END:DAYLIGHT
END:VTIMEZONE
END:VCALENDAR