BEGIN:VCALENDAR
VERSION:2.0
PRODID:-//wp-events-plugin.com//7.2.3.1//EN
TZID:Europe/London
X-WR-TIMEZONE:Europe/London
BEGIN:VEVENT
UID:191@braillists.org
DTSTART;TZID=Europe/London:20201103T193000
DTEND;TZID=Europe/London:20201103T203000
DTSTAMP:20230507T201404Z
URL:https://www.braillists.org/testevents/getting-around-the-orbit/
SUMMARY:Getting Around the Orbit
DESCRIPTION:Join us for the first of our new look Braillists events!\nIn "G
 etting Around the Orbit"\, Dave Williams will be introducing us to the Orb
 it reader 20. He’ll explain the difference between the Orbit and other b
 raille displays on the market\, introduce us to the features of the device
  and tell us where we can get books to read on it.
CATEGORIES:Masterclasses
LOCATION:https://us02web.zoom.us/j/83447604052
END:VEVENT
BEGIN:VTIMEZONE
TZID:Europe/London
X-LIC-LOCATION:Europe/London
BEGIN:STANDARD
DTSTART:20201025T010000
TZOFFSETFROM:+0100
TZOFFSETTO:+0000
TZNAME:GMT
END:STANDARD
END:VTIMEZONE
END:VCALENDAR