BEGIN:VCALENDAR
VERSION:2.0
PRODID:-//wp-events-plugin.com//7.2.3.1//EN
TZID:Europe/London
X-WR-TIMEZONE:Europe/London
BEGIN:VEVENT
UID:192@braillists.org
DTSTART;TZID=Europe/London:20201110T193000
DTEND;TZID=Europe/London:20201110T203000
DTSTAMP:20230507T201459Z
URL:https://www.braillists.org/testevents/introduction-to-braille-writing-
 frames/
SUMMARY:Introduction to Braille Writing Frames
DESCRIPTION:This session will be a practical introduction on using a hand f
 rame (also known as a slate and stylus).\nWe will cover inserting the pape
 r\, holding the stylus and writing some characters\, as well as some basic
  types of frame and where to get them.\nPlease come prepared with your fra
 me\, stylus and paper.\nQuestions welcome.\nIf you don't have a slate and 
 stylus\, you can get one through the free equipment the Braillists is givi
 ng out.\nWe hope to see many braille enthusiasts and look forward to learn
 ing together.\nThe event will take place on Zoom and will be led by James 
 Bowden\, braille technical officer\, RNIB.
CATEGORIES:Masterclasses
LOCATION:https://us02web.zoom.us/j/83644422753
END:VEVENT
BEGIN:VTIMEZONE
TZID:Europe/London
X-LIC-LOCATION:Europe/London
BEGIN:STANDARD
DTSTART:20201025T010000
TZOFFSETFROM:+0100
TZOFFSETTO:+0000
TZNAME:GMT
END:STANDARD
END:VTIMEZONE
END:VCALENDAR