BEGIN:VCALENDAR
VERSION:2.0
PRODID:-//wp-events-plugin.com//7.2.3.1//EN
TZID:Europe/London
X-WR-TIMEZONE:Europe/London
BEGIN:VEVENT
UID:217@braillists.org
DTSTART;TZID=Europe/London:20210223T193000
DTEND;TZID=Europe/London:20210223T203000
DTSTAMP:20230508T110804Z
URL:https://www.braillists.org/testevents/note-taking-taking-notes-for-oth
 ers/
SUMMARY:Note Taking: Taking Notes for Others
DESCRIPTION:If you are required to take notes as part of a team\, whether t
 hat's in a meeting or for group projects\, this session will guide you thr
 ough using braille to take notes that are also visually accessible. We wil
 l touch on taking notes using a braille display\, and writing Markdown in 
 braille to format your notes.\nIf you'd like to join us\, and you've alrea
 dy joined us for one of our Tuesday evening Masterclasses in 2021\, you do
 n't need to register again. You will receive a reminder email on the day w
 ith joining information\, so don't worry if you've lost your link.
CATEGORIES:Masterclasses
LOCATION:https://us02web.zoom.us/meeting/register/tZwoceivqz8rGtbEERfYGlXFS
 R2eIqx-oc9o
END:VEVENT
BEGIN:VTIMEZONE
TZID:Europe/London
X-LIC-LOCATION:Europe/London
BEGIN:STANDARD
DTSTART:20201025T010000
TZOFFSETFROM:+0100
TZOFFSETTO:+0000
TZNAME:GMT
END:STANDARD
END:VTIMEZONE
END:VCALENDAR