BEGIN:VCALENDAR
VERSION:2.0
PRODID:-//wp-events-plugin.com//7.2.3.1//EN
TZID:Europe/London
X-WR-TIMEZONE:Europe/London
BEGIN:VEVENT
UID:190@braillists.org
DTSTART;TZID=Europe/London:20210514T180000
DTEND;TZID=Europe/London:20210514T190000
DTSTAMP:20230506T170903Z
URL:https://www.braillists.org/testevents/open-forum-2-2021-05-14/
SUMMARY:Final Open Forum
DESCRIPTION:Thank you to everyone who has attended one of our Friday forums
  since last March. It's been a pleasure hosting them.\nThere's an "end of 
 term" feeling tonight as we bring them to an end. Pour yourself a drink\, 
 grab a snack and come join us to toast the future of the Braillists.
CATEGORIES:Open Forum
LOCATION:https://us02web.zoom.us/j/84894050254
END:VEVENT
BEGIN:VTIMEZONE
TZID:Europe/London
X-LIC-LOCATION:Europe/London
BEGIN:DAYLIGHT
DTSTART:20210328T020000
TZOFFSETFROM:+0000
TZOFFSETTO:+0100
TZNAME:BST
END:DAYLIGHT
END:VTIMEZONE
END:VCALENDAR