BEGIN:VCALENDAR
VERSION:2.0
PRODID:-//wp-events-plugin.com//7.2.3.1//EN
TZID:Europe/London
X-WR-TIMEZONE:Europe/London
BEGIN:VEVENT
UID:170@braillists.org
DTSTART;TZID=Europe/London:20201218T180000
DTEND;TZID=Europe/London:20201218T190000
DTSTAMP:20230506T164753Z
URL:https://www.braillists.org/testevents/open-forum-2020-12-18/
SUMMARY:Christmas Quiz
DESCRIPTION:You asked\, we delivered. This Friday we'll be taking a break f
 rom our usual open forum to bring you the Braillists Christmas quiz of 202
 0! We'll bring the questions\, you bring your quizzing brains\, something 
 to write on and maybe even a Christmas tipple to celebrate the start of th
 e weekend. This event will be starting promptly at 6PM so please make ever
 y effort to arrive in good time if possible.
CATEGORIES:Open Forum
LOCATION:https://us02web.zoom.us/j/84894050254
END:VEVENT
BEGIN:VTIMEZONE
TZID:Europe/London
X-LIC-LOCATION:Europe/London
BEGIN:STANDARD
DTSTART:20201025T010000
TZOFFSETFROM:+0100
TZOFFSETTO:+0000
TZNAME:GMT
END:STANDARD
END:VTIMEZONE
END:VCALENDAR