BEGIN:VCALENDAR
VERSION:2.0
PRODID:-//wp-events-plugin.com//7.2.3.1//EN
TZID:Europe/London
X-WR-TIMEZONE:Europe/London
BEGIN:VEVENT
UID:215@braillists.org
DTSTART;TZID=Europe/London:20210209T193000
DTEND;TZID=Europe/London:20210209T203000
DTSTAMP:20230508T105442Z
URL:https://www.braillists.org/testevents/using-braille-as-a-presentation-
 tool-part-1/
SUMMARY:Using Braille as a Presentation Tool\, part 1
DESCRIPTION:This session will cover using braille with PowerPoint and Googl
 e Slides. We'll guide you through how braille output works with these piec
 es of software and the ways it can enable you to deliver more effective pr
 esentations. Next week we will continue looking at presenting in braille\,
  with a focus on public speaking and preparing braille notes for use when 
 delivering speeches.\nThis session is ideal for anyone who is required to 
 deliver presentations for school\, work\, or in a voluntary capacity. It w
 ill also provide encouragement for any budding public speakers.
CATEGORIES:Masterclasses
LOCATION:https://us02web.zoom.us/meeting/register/tZwoceivqz8rGtbEERfYGlXFS
 R2eIqx-oc9o
END:VEVENT
BEGIN:VTIMEZONE
TZID:Europe/London
X-LIC-LOCATION:Europe/London
BEGIN:STANDARD
DTSTART:20201025T010000
TZOFFSETFROM:+0100
TZOFFSETTO:+0000
TZNAME:GMT
END:STANDARD
END:VTIMEZONE
END:VCALENDAR