BEGIN:VCALENDAR
VERSION:2.0
PRODID:-//wp-events-plugin.com//7.2.3.1//EN
TZID:Europe/London
X-WR-TIMEZONE:Europe/London
BEGIN:VEVENT
UID:216@braillists.org
DTSTART;TZID=Europe/London:20210216T193000
DTEND;TZID=Europe/London:20210216T203000
DTSTAMP:20230508T105315Z
URL:https://www.braillists.org/testevents/using-braille-as-a-presentation-
 tool-part-2-braille-for-public-speaking/
SUMMARY:Using Braille as a Presentation Tool\, part 2: Braille for Public S
 peaking
DESCRIPTION:If you need to deliver speeches for work\, school\, or as part 
 of one of your interests\, this session will guide you through using brail
 le in order to present more effectively. This master class builds on the p
 revious session\, which focussed on using braille with existing presentati
 on software such as PowerPoint and Google Slides\, however it can also be 
 attended as a stand-alone event.\nIn this session we will cover:\n\nWritin
 g a presentation script.\nUsing cue cards.\nSetting up the space to delive
 r using a braille display.\nSetting up the space to deliver using hardcopy
  braille.\nSuggested equipment and resources.\n
CATEGORIES:Masterclasses
LOCATION:https://us02web.zoom.us/meeting/register/tZwoceivqz8rGtbEERfYGlXFS
 R2eIqx-oc9o
END:VEVENT
BEGIN:VTIMEZONE
TZID:Europe/London
X-LIC-LOCATION:Europe/London
BEGIN:STANDARD
DTSTART:20201025T010000
TZOFFSETFROM:+0100
TZOFFSETTO:+0000
TZNAME:GMT
END:STANDARD
END:VTIMEZONE
END:VCALENDAR