BEGIN:VCALENDAR
VERSION:2.0
PRODID:-//wp-events-plugin.com//7.2.3.1//EN
TZID:Europe/London
X-WR-TIMEZONE:Europe/London
BEGIN:VEVENT
UID:213@braillists.org
DTSTART;TZID=Europe/London:20210126T193000
DTEND;TZID=Europe/London:20210126T203000
DTSTAMP:20230508T103513Z
URL:https://www.braillists.org/testevents/using-braille-on-windows/
SUMMARY:Using Braille on Windows
DESCRIPTION:Our series of Tuesday master classes continues with an overview
  of using braille on Windows. Find out how to pair a windows PC with a bra
 ille display\, which screen readers support braille output\, and tips and 
 tricks for using braille in conjunction with a screen-reader.\nIf you are 
 already registered for our Tuesday series\, you are already registered for
  this session. Look out for a reminder email shortly before the session wi
 th instructions on how to join.
CATEGORIES:Masterclasses
LOCATION:https://us02web.zoom.us/meeting/register/tZwoceivqz8rGtbEERfYGlXFS
 R2eIqx-oc9o
END:VEVENT
BEGIN:VTIMEZONE
TZID:Europe/London
X-LIC-LOCATION:Europe/London
BEGIN:STANDARD
DTSTART:20201025T010000
TZOFFSETFROM:+0100
TZOFFSETTO:+0000
TZNAME:GMT
END:STANDARD
END:VTIMEZONE
END:VCALENDAR